BEGIN:VCALENDAR
VERSION:2.0
PRODID:-//Intand Corporation//Tandem//EN
METHOD:PUBLISH
BEGIN:VEVENT
DTSTAMP:20260424T054228Z
DTSTART:20110919T210000Z
DTEND:20110920T000000Z
TRANSP:TRANSPARENT
PRIORITY:0
SUMMARY:SVJH 8th Gr Cross Country @ Pleasant Lea
LOCATION:Pleasant Lea Middle
DESCRIPTION:Groups:\nSVJHS 8th Grade Cross Country\nSVJHS Parent\n\nSchool
 s:\nDiscovery Middle School\n\nLocation:\nPleasant Lea Middle\n\n
URL;VALUE=URI:http://liberty53.tandem.co/index.php?type=view&action=event&
 id=60536
CREATED:20110818T192856Z
LAST-MODIFIED:20110818T192856Z
UID:event-60536-liberty53@intand.com
END:VEVENT
END:VCALENDAR
