BEGIN:VCALENDAR
VERSION:2.0
PRODID:-//Intand Corporation//Tandem//EN
METHOD:PUBLISH
BEGIN:VEVENT
DTSTAMP:20260424T050050Z
DTSTART:20110908T124500Z
DTEND:20110908T133000Z
TRANSP:TRANSPARENT
PRIORITY:0
SUMMARY:AD Community Committee
LOCATION:Alexander Doniphan Elementary
DESCRIPTION:Room # 305\n\nGroups:\nADE Staff\n\nSchools:\nAlexander Doniph
 an Elementary\n\nLocation:\nAlexander Doniphan Elementary\n\n
URL;VALUE=URI:http://liberty53.tandem.co/index.php?type=view&action=event&
 id=60405
CREATED:20110817T183356Z
LAST-MODIFIED:20110817T183356Z
UID:event-60405-liberty53@intand.com
END:VEVENT
END:VCALENDAR
