BEGIN:VCALENDAR
VERSION:2.0
PRODID:-//Intand Corporation//Tandem//EN
METHOD:PUBLISH
BEGIN:VEVENT
DTSTAMP:20260424T032938Z
DTSTART:20110926T210000Z
DTEND:20110926T230000Z
TRANSP:TRANSPARENT
PRIORITY:0
SUMMARY:SVJH 8th Gr Volleyball @ Platte County
LOCATION:Platte County High
DESCRIPTION:Groups:\nSVJHS Staff\nSVJHS 8th Grade Volleyball\n\nSchools:\n
 Discovery Middle School\n\nLocation:\nPlatte County High\n\n
URL;VALUE=URI:http://liberty53.tandem.co/index.php?type=view&action=event&
 id=60397
CREATED:20110817T180328Z
LAST-MODIFIED:20110817T180328Z
UID:event-60397-liberty53@intand.com
END:VEVENT
END:VCALENDAR
