BEGIN:VCALENDAR
VERSION:2.0
PRODID:-//Intand Corporation//Tandem//EN
METHOD:PUBLISH
BEGIN:VEVENT
DTSTAMP:20260424T075903Z
DTSTART:20111004T202000Z
DTEND:20111004T214000Z
TRANSP:TRANSPARENT
PRIORITY:0
SUMMARY:LJHS 8th Grade Cross Country Practice
LOCATION:LJHS Tennis Court
DESCRIPTION:Groups:\nLJHS 8th Grade Cross Country\n\nSchools:\nHeritage Mi
 ddle School\n\nLocation:\nLJHS Tennis Court\n\n
URL;VALUE=URI:http://liberty53.tandem.co/index.php?type=view&action=event&
 id=60217
CREATED:20110816T181258Z
LAST-MODIFIED:20110816T181258Z
UID:event_request-60217-liberty53@intand.com
END:VEVENT
END:VCALENDAR
