BEGIN:VCALENDAR
VERSION:2.0
PRODID:-//Intand Corporation//Tandem//EN
METHOD:PUBLISH
BEGIN:VEVENT
DTSTAMP:20260424T050232Z
DTSTART:20110929T233000Z
DTEND:20110930T013000Z
TRANSP:TRANSPARENT
PRIORITY:0
SUMMARY:LHS-Exit 16 Practices
LOCATION:LHS The Little Theater
DESCRIPTION:Contact is Sarah Foresman\n\nGroups:\nLHS Exit 16\n\nSchools:\
 nLiberty High School\n\nLocation:\nLHS The Little Theater\n\n
URL;VALUE=URI:http://liberty53.tandem.co/index.php?type=view&action=event&
 id=59936
CREATED:20110815T202017Z
LAST-MODIFIED:20110815T202017Z
UID:event-59936-liberty53@intand.com
END:VEVENT
END:VCALENDAR
