BEGIN:VCALENDAR
VERSION:2.0
PRODID:-//Intand Corporation//Tandem//EN
METHOD:PUBLISH
BEGIN:VEVENT
DTSTAMP:20260424T063552Z
DTSTART;VALUE=DATE:20110924
DTEND;VALUE=DATE:20110925
TRANSP:TRANSPARENT
PRIORITY:0
SUMMARY:LNHS Cross Country at KU Invite
LOCATION:Rim Rock Farm 
DESCRIPTION:Rim Rock Park\n\nSetup: TBD\nBreakdown: TBD\n\nDepart: TBD\nRe
 turn: TBD\n\nGroups:\nLNHS Cross Country\n\nSchools:\nHeritage Middle Scho
 ol\nLiberty North High School\nDiscovery Middle School\n\nLocation:\nRim R
 ock Farm \n\n
URL;VALUE=URI:http://liberty53.tandem.co/index.php?type=view&action=event&
 id=59767
CREATED:20110815T130156Z
LAST-MODIFIED:20110815T130156Z
UID:event-59767-liberty53@intand.com
END:VEVENT
END:VCALENDAR
