BEGIN:VCALENDAR
VERSION:2.0
PRODID:-//Intand Corporation//Tandem//EN
METHOD:PUBLISH
BEGIN:VEVENT
DTSTAMP:20260424T033512Z
DTSTART:20110910T120000Z
DTEND:20110910T180000Z
TRANSP:TRANSPARENT
PRIORITY:0
SUMMARY:Liberty North Cross Country Meet
LOCATION:Raymore-Peculiar Sr. High
DESCRIPTION:Ray Pec Invitational \n\nGroups:\nLNHS Cross Country\n\nSchool
 s:\nHeritage Middle School\nLiberty North High School\nDiscovery Middle Sc
 hool\n\nLocation:\nRaymore-Peculiar Sr. High\n\n
URL;VALUE=URI:http://liberty53.tandem.co/index.php?type=view&action=event&
 id=59442
CREATED:20110813T004418Z
LAST-MODIFIED:20110813T004418Z
UID:event_request-59442-liberty53@intand.com
END:VEVENT
END:VCALENDAR
