BEGIN:VCALENDAR
VERSION:2.0
PRODID:-//Intand Corporation//Tandem//EN
METHOD:PUBLISH
BEGIN:VEVENT
DTSTAMP:20260424T033419Z
DTSTART:20110922T130000Z
DTEND:20110922T173000Z
TRANSP:TRANSPARENT
PRIORITY:0
SUMMARY:DAC-C ASVAB Test for LHS & LNHS 
LOCATION:DAS Board Room C
DESCRIPTION:Setup: 7:30 am\nBreakdown: 1:00 pm\n\nGroups:\nLHS Students\n\
 nSchools:\nLiberty High School\nLiberty North High School\nDistrict Admini
 stration Center\n\nLocation:\nDAS Board Room C\n\n
URL;VALUE=URI:http://liberty53.tandem.co/index.php?type=view&action=event&
 id=58926
CREATED:20110811T165156Z
LAST-MODIFIED:20110920T150154Z
UID:event-58926-liberty53@intand.com
END:VEVENT
END:VCALENDAR
