BEGIN:VCALENDAR
VERSION:2.0
PRODID:-//Intand Corporation//Tandem//EN
METHOD:PUBLISH
BEGIN:VEVENT
DTSTAMP:20260424T055346Z
DTSTART:20111001T150000Z
DTEND:20111001T230000Z
TRANSP:TRANSPARENT
PRIORITY:0
SUMMARY:Eagle Club Orchestra Chilli Cook Off
LOCATION:LNHS Room 604\, LNHS Parking Lot\, LNHS Cafeteria (GH HVAC)\, LNH
 S Performing Arts Theater (GH HVAC)\, LNHS Room 612 Orchestra\, LNHS Room 
 607 Black Box Theater\, LNHS Great Hall\, LNHS Room 608\, LNHS Room 617 VM
 -Large\, LNHS Room 613 V
DESCRIPTION:Kim Angle is contact\n\nSetup: 7:00 am\nBreakdown: 6:01 pm\n\n
 Groups:\nLNHS Grade 10\nLNHS Grade 11\nLNHS Grade 12\nLNHS Parent\nLNHS Or
 chestra\n\nSchools:\nLiberty North High School\n\nLocations:\nLNHS Room 60
 4\nLNHS Parking Lot\nLNHS Cafeteria (GH HVAC)\nLNHS Performing Arts Theate
 r (GH HVAC)\nLNHS Room 612 Orchestra\nLNHS Room 607 Black Box Theater\nLNH
 S Great Hall\nLNHS Room 608\nLNHS Room 617 VM-Large\nLNHS Room 613 VM-Smal
 l\nLNHS Room 616 Band\nLNHS Room 609\n\n
URL;VALUE=URI:http://liberty53.tandem.co/index.php?type=view&action=event&
 id=58917
CREATED:20110811T154602Z
LAST-MODIFIED:20110811T154602Z
UID:event-58917-liberty53@intand.com
END:VEVENT
END:VCALENDAR
