BEGIN:VCALENDAR
VERSION:2.0
PRODID:-//Intand Corporation//Tandem//EN
METHOD:PUBLISH
BEGIN:VEVENT
DTSTAMP:20260424T032934Z
DTSTART:20110914T120000Z
DTEND:20110914T180000Z
TRANSP:TRANSPARENT
PRIORITY:0
SUMMARY:[Cancelled] DAC A - Team Liberty
LOCATION:DAC Board Room A
DESCRIPTION:Groups:\nDAC Human Resources\n\nSchools:\nDistrict Administrat
 ion Center\n\nLocation:\nDAC Board Room A\n\n
URL;VALUE=URI:http://liberty53.tandem.co/index.php?type=view&action=event&
 id=56577
CREATED:20110810T152346Z
LAST-MODIFIED:20110902T155013Z
UID:event-56577-liberty53@intand.com
END:VEVENT
END:VCALENDAR
