BEGIN:VCALENDAR
VERSION:2.0
PRODID:-//Intand Corporation//Tandem//EN
METHOD:PUBLISH
BEGIN:VEVENT
DTSTAMP:20260424T032952Z
DTSTART:20110914T230000Z
DTEND:20110915T030000Z
TRANSP:TRANSPARENT
PRIORITY:0
SUMMARY:LMS - Parks and Rec Adult Volleyball -Gym
LOCATION:LMS Gym
DESCRIPTION:LMS - Parks and Rec Adult Volleyball -Gym Contact Isaiah Bragg
  816-439-4392 School Closed 9/5/11\,12/26/11\,1/2/2012\,1/16/2012\,2/20/20
 12\, and 5/28/2012\n\nGroups:\nLiberty Parks & Rec Volleyball\n\nSchools:\
 nLiberty Middle School\n\nLocation:\nLMS Gym\n\n
URL;VALUE=URI:http://liberty53.tandem.co/index.php?type=view&action=event&
 id=56252
CREATED:20110809T193343Z
LAST-MODIFIED:20110810T164409Z
UID:event-56252-liberty53@intand.com
END:VEVENT
END:VCALENDAR
