BEGIN:VCALENDAR
VERSION:2.0
PRODID:-//Intand Corporation//Tandem//EN
METHOD:PUBLISH
BEGIN:VEVENT
DTSTAMP:20260424T033129Z
DTSTART:20111001T123000Z
DTEND:20111001T233000Z
TRANSP:TRANSPARENT
PRIORITY:0
SUMMARY:MH- Parks and Rec Soccer Practice-Soccer Field
LOCATION:MHE Soccer Field
DESCRIPTION:MH Parks and Rec Soccer Practice-Soccer Field Contact Nate Wil
 liams 816-439-4389 LPS School Activity 9/17 and 10/15\n\nGroups:\nLiberty 
 Parks & Rec\n\nSchools:\nManor Hill Elementary\n\nLocation:\nMHE Soccer Fi
 eld\n\n
URL;VALUE=URI:http://liberty53.tandem.co/index.php?type=view&action=event&
 id=55508
CREATED:20110809T164947Z
LAST-MODIFIED:20110810T161322Z
UID:event-55508-liberty53@intand.com
END:VEVENT
END:VCALENDAR
