BEGIN:VCALENDAR
VERSION:2.0
PRODID:-//Intand Corporation//Tandem//EN
METHOD:PUBLISH
BEGIN:VEVENT
DTSTAMP:20260424T050346Z
DTSTART:20110917T123000Z
DTEND:20110917T233000Z
TRANSP:TRANSPARENT
PRIORITY:0
SUMMARY:[Cancelled] MH- Parks and Rec Soccer Practice-Soccer Field
LOCATION:Manor Hill Elementary\, MHE Soccer Field
DESCRIPTION:MH Parks and Rec Soccer Practice-Soccer Field\nContact Nate Wi
 lliams 816-439-4389\nLPS School Activity 9/17 and 10/15\n\nGroups:\nLibert
 y Parks & Rec\n\nSchools:\nManor Hill Elementary\n\nLocations:\nManor Hill
  Elementary\nMHE Soccer Field\n\n
URL;VALUE=URI:http://liberty53.tandem.co/index.php?type=view&action=event&
 id=55506
CREATED:20110809T164947Z
LAST-MODIFIED:20110809T165223Z
UID:event-55506-liberty53@intand.com
END:VEVENT
END:VCALENDAR
