BEGIN:VCALENDAR
VERSION:2.0
PRODID:-//Intand Corporation//Tandem//EN
METHOD:PUBLISH
BEGIN:VEVENT
DTSTAMP:20260424T050102Z
DTSTART:20110908T133000Z
DTEND:20110908T163000Z
TRANSP:TRANSPARENT
PRIORITY:0
SUMMARY:DAS-E:  Elementary Art
LOCATION:DAS Conference Room E
DESCRIPTION:Groups:\nVisual Arts\n\nSchools:\nDistrict Administration Cent
 er\n\nLocation:\nDAS Conference Room E\n\nContact: Aaron Money\n\n
URL;VALUE=URI:http://liberty53.tandem.co/index.php?type=view&action=event&
 id=55174
CREATED:20110808T192723Z
LAST-MODIFIED:20110808T192723Z
UID:event-55174-liberty53@intand.com
END:VEVENT
END:VCALENDAR
