BEGIN:VCALENDAR
VERSION:2.0
PRODID:-//Intand Corporation//Tandem//EN
METHOD:PUBLISH
BEGIN:VEVENT
DTSTAMP:20260424T015237Z
DTSTART:20110929T123000Z
DTEND:20110929T193000Z
TRANSP:TRANSPARENT
PRIORITY:0
SUMMARY:DAS-E:  Secondary Library Media Specialists
LOCATION:DAS Conference Room E
DESCRIPTION:Meeting\n\nGroups:\nLibrary Media\n\nSchools:\nDistrict Admini
 stration Center\n\nLocation:\nDAS Conference Room E\n\nContact: Andrea Sum
 y\n\n
URL;VALUE=URI:http://liberty53.tandem.co/index.php?type=view&action=event&
 id=55121
CREATED:20110808T185802Z
LAST-MODIFIED:20110808T185802Z
UID:event-55121-liberty53@intand.com
END:VEVENT
END:VCALENDAR
