BEGIN:VCALENDAR
VERSION:2.0
PRODID:-//Intand Corporation//Tandem//EN
METHOD:PUBLISH
BEGIN:VEVENT
DTSTAMP:20260424T020236Z
DTSTART:20110929T213000Z
DTEND:20110930T003000Z
TRANSP:TRANSPARENT
PRIORITY:0
SUMMARY:LNHS Cheer Practice - V
LOCATION:LJHS South Gym
DESCRIPTION:Groups:\nLNHS Cheerleading\n\nSchools:\nHeritage Middle School
 \nLiberty North High School\nDiscovery Middle School\n\nLocation:\nLJHS So
 uth Gym\n\n
URL;VALUE=URI:http://liberty53.tandem.co/index.php?type=view&action=event&
 id=54503
CREATED:20110802T210840Z
LAST-MODIFIED:20110802T214613Z
UID:event-54503-liberty53@intand.com
END:VEVENT
END:VCALENDAR
