BEGIN:VCALENDAR
VERSION:2.0
PRODID:-//Intand Corporation//Tandem//EN
METHOD:PUBLISH
BEGIN:VEVENT
DTSTAMP:20260424T032855Z
DTSTART;VALUE=DATE:20110927
DTEND;VALUE=DATE:20110928
TRANSP:TRANSPARENT
PRIORITY:0
SUMMARY:WHE - Papa John's Fall Fundraiser
LOCATION:Papa John's Pizza
DESCRIPTION:Warren Hills Elementary - Papa John's Fall fundraiser\n\nSetup
 : TBD\nBreakdown: TBD\n\nDepart: TBD\nReturn: TBD\n\nGroups:\nWHE Parent\n
 WHE Staff\n\nSchools:\nWarren Hills Elementary\n\nLocation:\nPapa John's P
 izza\n\n
URL;VALUE=URI:http://liberty53.tandem.co/index.php?type=view&action=event&
 id=54231
CREATED:20110801T164802Z
LAST-MODIFIED:20110801T164802Z
UID:event-54231-liberty53@intand.com
END:VEVENT
END:VCALENDAR
