BEGIN:VCALENDAR
VERSION:2.0
PRODID:-//Intand Corporation//Tandem//EN
METHOD:PUBLISH
BEGIN:VEVENT
DTSTAMP:20260424T032948Z
DTSTART:20110920T210000Z
DTEND:20110921T000000Z
TRANSP:TRANSPARENT
PRIORITY:0
SUMMARY:LJHS 8th Football @ Brittany Hill MS
LOCATION:Brittany Hill Middle
DESCRIPTION:4:00 pm\n\nGroups:\nLJHS Students\nLJHS 8th Grade Football\n\n
 Schools:\nHeritage Middle School\n\nLocation:\nBrittany Hill Middle\n\n
URL;VALUE=URI:http://liberty53.tandem.co/index.php?type=view&action=event&
 id=52855
CREATED:20110718T142208Z
LAST-MODIFIED:20110718T142208Z
UID:event-52855-liberty53@intand.com
END:VEVENT
END:VCALENDAR
