BEGIN:VCALENDAR
VERSION:2.0
PRODID:-//Intand Corporation//Tandem//EN
METHOD:PUBLISH
BEGIN:VEVENT
DTSTAMP:20260424T015204Z
DTSTART:20110914T213000Z
DTEND:20110914T223000Z
TRANSP:TRANSPARENT
PRIORITY:0
SUMMARY:LHS-JV/V Boys Soccer vs Pembrooke Hill
LOCATION:Pembroke Hill
DESCRIPTION:Groups:\nLHS Boys Soccer JV/Varsity\n\nSchools:\nLiberty High 
 School\n\nLocation:\nPembroke Hill\n\n
URL;VALUE=URI:http://liberty53.tandem.co/index.php?type=view&action=event&
 id=52816
CREATED:20110715T024032Z
LAST-MODIFIED:20110715T024032Z
UID:event-52816-liberty53@intand.com
END:VEVENT
END:VCALENDAR
