BEGIN:VCALENDAR
VERSION:2.0
PRODID:-//Intand Corporation//Tandem//EN
METHOD:PUBLISH
BEGIN:VEVENT
DTSTAMP:20260424T020233Z
DTSTART:20110912T180000Z
DTEND:20110912T190000Z
TRANSP:TRANSPARENT
PRIORITY:0
SUMMARY:LHS- Varsity Girls Golf Truman Trn
LOCATION:Drumm Farm Golf Club
DESCRIPTION:Groups:\nLHS Girls Golf\n\nSchools:\nLiberty High School\n\nLo
 cation:\nDrumm Farm Golf Club\n\n
URL;VALUE=URI:http://liberty53.tandem.co/index.php?type=view&action=event&
 id=52803
CREATED:20110715T021420Z
LAST-MODIFIED:20110715T021420Z
UID:event-52803-liberty53@intand.com
END:VEVENT
END:VCALENDAR
