BEGIN:VCALENDAR
VERSION:2.0
PRODID:-//Intand Corporation//Tandem//EN
METHOD:PUBLISH
BEGIN:VEVENT
DTSTAMP:20260424T041633Z
DTSTART:20110921T210000Z
DTEND:20110921T220000Z
TRANSP:TRANSPARENT
PRIORITY:0
SUMMARY:LJHS 8th Cross Country Kearney JH
LOCATION:Kearney Junior High School
DESCRIPTION:Groups:\nLJHS Students\nLJHS 8th Grade Cross Country\n\nSchool
 s:\nHeritage Middle School\n\nLocation:\nKearney Junior High School\n\n
URL;VALUE=URI:http://liberty53.tandem.co/index.php?type=view&action=event&
 id=52752
CREATED:20110714T183034Z
LAST-MODIFIED:20110714T183034Z
UID:event-52752-liberty53@intand.com
END:VEVENT
END:VCALENDAR
