BEGIN:VCALENDAR
VERSION:2.0
PRODID:-//Intand Corporation//Tandem//EN
METHOD:PUBLISH
BEGIN:VEVENT
DTSTAMP:20260424T015240Z
DTSTART:20110922T130000Z
DTEND:20110922T133000Z
TRANSP:TRANSPARENT
PRIORITY:0
SUMMARY:FR-Dads and Doughnuts for 3rd -5th
LOCATION:FE Gym
DESCRIPTION:Bring your dad (or grandpa\, uncle or friend) to the Franklin 
 gym for a doughnut this morning anytime between 8 and 8:30.\n\nGroups:\nFE
  PTA\n\nSchools:\nFranklin Elementary\n\nLocation:\nFE Gym\n\n
URL;VALUE=URI:http://liberty53.tandem.co/index.php?type=view&action=event&
 id=52258
CREATED:20110712T193322Z
LAST-MODIFIED:20110712T193322Z
UID:event-52258-liberty53@intand.com
END:VEVENT
END:VCALENDAR
