BEGIN:VCALENDAR
VERSION:2.0
PRODID:-//Intand Corporation//Tandem//EN
METHOD:PUBLISH
BEGIN:VEVENT
DTSTAMP:20260424T020310Z
DTSTART;VALUE=DATE:20110929
DTEND;VALUE=DATE:20110930
TRANSP:TRANSPARENT
PRIORITY:0
SUMMARY:Kellybrook - Facilities Reserved for School Use
LOCATION:Kellybrook Elementary
DESCRIPTION:Groups:\nKE Choir\nKE Game Club\nKE Kid's Zone\nKE Leadership 
 Team\nKE PTA\nKE Parent\nKE Open LMC\nKE Running Club\nKE Staff\nKE String
 s\nKE Student Council\nKE Vocal Music\n\nSchools:\nKellybrook Elementary\n
 \nLocation:\nKellybrook Elementary\n\n
URL;VALUE=URI:http://liberty53.tandem.co/index.php?type=view&action=event&
 id=51308
CREATED:20110712T171949Z
LAST-MODIFIED:20110712T192542Z
UID:event-51308-liberty53@intand.com
END:VEVENT
END:VCALENDAR
