BEGIN:VCALENDAR
VERSION:2.0
PRODID:-//Intand Corporation//Tandem//EN
METHOD:PUBLISH
BEGIN:VEVENT
DTSTAMP:20260424T015320Z
DTSTART:20111004T210000Z
DTEND:20111005T010000Z
TRANSP:TRANSPARENT
PRIORITY:0
SUMMARY:LS- CiCi's Pizza Night
LOCATION:Ci Ci's Pizza
DESCRIPTION:Groups:\nLSE PTA\nLSE Parent\nLSE Staff\n\nSchools:\nLillian S
 chumacher Elementary\n\nLocation:\nCi Ci's Pizza\n\n
URL;VALUE=URI:http://liberty53.tandem.co/index.php?type=view&action=event&
 id=51077
CREATED:20110708T172721Z
LAST-MODIFIED:20110727T141612Z
UID:event-51077-liberty53@intand.com
END:VEVENT
END:VCALENDAR
