BEGIN:VCALENDAR
VERSION:2.0
PRODID:-//Intand Corporation//Tandem//EN
METHOD:PUBLISH
BEGIN:VEVENT
DTSTAMP:20260424T033547Z
DTSTART:20111004T213000Z
DTEND:20111005T020000Z
TRANSP:TRANSPARENT
PRIORITY:0
SUMMARY:DAC-A/B PSRS/PEERS Retirement Seminar
LOCATION:DAC Board Room A\, DAC Board Room B
DESCRIPTION:Setup: 3:30 pm\nBreakdown: 9:30 pm\n\nGroups:\nDAC Business Op
 erations\n\nSchools:\nDistrict Administration Center\n\nLocations:\nDAC Bo
 ard Room A\nDAC Board Room B\n\n
URL;VALUE=URI:http://liberty53.tandem.co/index.php?type=view&action=event&
 id=51061
CREATED:20110707T203443Z
LAST-MODIFIED:20110822T181130Z
UID:event-51061-liberty53@intand.com
END:VEVENT
END:VCALENDAR
