BEGIN:VCALENDAR
VERSION:2.0
PRODID:-//Intand Corporation//Tandem//EN
METHOD:PUBLISH
BEGIN:VEVENT
DTSTAMP:20260424T040651Z
DTSTART;VALUE=DATE:20110913
DTEND;VALUE=DATE:20110914
TRANSP:TRANSPARENT
PRIORITY:0
SUMMARY:LC- CiCi's Pizza Night
LOCATION:Ci Ci's Pizza
DESCRIPTION:Groups:\nLCE PTA\nLCE Staff\nLCE Parent\n\nSchools:\nLewis And
  Clark Elementary\n\nLocation:\nCi Ci's Pizza\n\n
URL;VALUE=URI:http://liberty53.tandem.co/index.php?type=view&action=event&
 id=51042
CREATED:20110707T171554Z
LAST-MODIFIED:20110707T171554Z
UID:event-51042-liberty53@intand.com
END:VEVENT
END:VCALENDAR
