BEGIN:VCALENDAR
VERSION:2.0
PRODID:-//Intand Corporation//Tandem//EN
METHOD:PUBLISH
BEGIN:VEVENT
DTSTAMP:20260424T033239Z
DTSTART:20110928T140000Z
DTEND:20110928T200000Z
TRANSP:TRANSPARENT
PRIORITY:0
SUMMARY:LC-Team Meetings
LOCATION:LCE Conference Room
DESCRIPTION:Groups:\nLCE Staff\n\nSchools:\nLewis And Clark Elementary\n\n
 Location:\nLCE Conference Room\n\n
URL;VALUE=URI:http://liberty53.tandem.co/index.php?type=view&action=event&
 id=50519
CREATED:20110623T181723Z
LAST-MODIFIED:20110623T181723Z
UID:event-50519-liberty53@intand.com
END:VEVENT
END:VCALENDAR
