BEGIN:VCALENDAR
VERSION:2.0
PRODID:-//Intand Corporation//Tandem//EN
METHOD:PUBLISH
BEGIN:VEVENT
DTSTAMP:20260424T032936Z
DTSTART:20110913T123000Z
DTEND:20110913T131000Z
TRANSP:TRANSPARENT
PRIORITY:0
SUMMARY:Foreign Exchange Student Breakfast
LOCATION:LHS STUCO Room
DESCRIPTION:Groups:\nLHS Students\n\nSchools:\nLiberty High School\n\nLoca
 tion:\nLHS STUCO Room\n\n
URL;VALUE=URI:http://liberty53.tandem.co/index.php?type=view&action=event&
 id=49202
CREATED:20110610T191947Z
LAST-MODIFIED:20110610T191947Z
UID:event_request-49202-liberty53@intand.com
END:VEVENT
END:VCALENDAR
