BEGIN:VCALENDAR
VERSION:2.0
PRODID:-//Intand Corporation//Tandem//EN
METHOD:PUBLISH
BEGIN:VEVENT
DTSTAMP:20260424T015317Z
DTSTART:20111004T133000Z
DTEND:20111004T203000Z
TRANSP:TRANSPARENT
PRIORITY:0
SUMMARY:DAS-C:  Elementary English Language Arts
LOCATION:DAS Board Room C
DESCRIPTION:Groups:\nDAC Innovative Design\n\nSchools:\nDistrict Administr
 ation Center\n\nLocation:\nDAS Board Room C\n\nAndrea Sumy\n\n
URL;VALUE=URI:http://liberty53.tandem.co/index.php?type=view&action=event&
 id=47902
CREATED:20110607T193130Z
LAST-MODIFIED:20110829T201958Z
UID:event-47902-liberty53@intand.com
END:VEVENT
END:VCALENDAR
