BEGIN:VCALENDAR
VERSION:2.0
PRODID:-//Intand Corporation//Tandem//EN
METHOD:PUBLISH
BEGIN:VEVENT
DTSTAMP:20260424T073703Z
DTSTART:20230919T223000Z
DTEND:20230920T030000Z
TRANSP:TRANSPARENT
PRIORITY:0
SUMMARY:LNHS JV/V Volleyball Game vs. Platte County
LOCATION:LNHS Fieldhouse (GH HVAC)\, LNHS Fieldhouse Mezzanine
DESCRIPTION:Groups:\nLNHS Volleyball - JV/Varsity\n\nSchools:\nLiberty Nor
 th High School\n\nLocations:\nLNHS Fieldhouse (GH HVAC)\nLNHS Fieldhouse M
 ezzanine\n\n
URL;VALUE=URI:http://liberty53.tandem.co/index.php?type=view&action=event&
 id=476129
CREATED:20230628T205340Z
LAST-MODIFIED:20230628T205526Z
UID:event-476129-liberty53@intand.com
END:VEVENT
END:VCALENDAR
