BEGIN:VCALENDAR
VERSION:2.0
PRODID:-//Intand Corporation//Tandem//EN
METHOD:PUBLISH
BEGIN:VEVENT
DTSTAMP:20260424T033130Z
DTSTART;VALUE=DATE:20230907
DTEND;VALUE=DATE:20230908
TRANSP:TRANSPARENT
PRIORITY:0
SUMMARY:LHS-Var Girls Golf Away vs St. Joe
LOCATION:St. Joe Central High
DESCRIPTION:Groups:\nLHS Girls Golf\n\nSchools:\nLiberty High School\nSt. 
 Joe Central High\n\nLocation:\nSt. Joe Central High\n\n
URL;VALUE=URI:http://liberty53.tandem.co/index.php?type=view&action=event&
 id=476100
CREATED:20230628T181858Z
LAST-MODIFIED:20230628T181858Z
UID:event-476100-liberty53@intand.com
END:VEVENT
END:VCALENDAR
