BEGIN:VCALENDAR
VERSION:2.0
PRODID:-//Intand Corporation//Tandem//EN
METHOD:PUBLISH
BEGIN:VEVENT
DTSTAMP:20260424T033238Z
DTSTART;VALUE=DATE:20230830
DTEND;VALUE=DATE:20230831
TRANSP:TRANSPARENT
PRIORITY:0
SUMMARY:LHS-Golf JV @ Platte County
LOCATION:Shiloh Springs Golf Club
DESCRIPTION:Groups:\nLHS Girls Golf\n\nSchools:\nLiberty High School\n\nLo
 cation:\nShiloh Springs Golf Club\n\n
URL;VALUE=URI:http://liberty53.tandem.co/index.php?type=view&action=event&
 id=476097
CREATED:20230628T181545Z
LAST-MODIFIED:20230628T181545Z
UID:event-476097-liberty53@intand.com
END:VEVENT
END:VCALENDAR
