BEGIN:VCALENDAR
VERSION:2.0
PRODID:-//Intand Corporation//Tandem//EN
METHOD:PUBLISH
BEGIN:VEVENT
DTSTAMP:20260424T020309Z
DTSTART:20230906T210000Z
DTEND:20230907T030000Z
TRANSP:TRANSPARENT
PRIORITY:0
SUMMARY:LHS-S & D@ Truman
LOCATION:Henley Aquatic Center
DESCRIPTION:Groups:\nLHS Boys Swim & Dive\n\nSchools:\nLiberty High School
 \n\nLocation:\nHenley Aquatic Center\n\n
URL;VALUE=URI:http://liberty53.tandem.co/index.php?type=view&action=event&
 id=475996
CREATED:20230628T173215Z
LAST-MODIFIED:20230628T173301Z
UID:event-475996-liberty53@intand.com
END:VEVENT
END:VCALENDAR
