BEGIN:VCALENDAR
VERSION:2.0
PRODID:-//Intand Corporation//Tandem//EN
METHOD:PUBLISH
BEGIN:VEVENT
DTSTAMP:20260424T043505Z
DTSTART:20231114T230000Z
DTEND:20231115T020000Z
TRANSP:TRANSPARENT
PRIORITY:0
SUMMARY:LN Cross Country Banquet
LOCATION:LNHS Cafeteria (GH HVAC)
DESCRIPTION:Groups:\nLNHS Cross Country\n\nSchools:\nLiberty North High Sc
 hool\n\nLocation:\nLNHS Cafeteria (GH HVAC)\n\n
URL;VALUE=URI:http://liberty53.tandem.co/index.php?type=view&action=event&
 id=475991
CREATED:20230627T192504Z
LAST-MODIFIED:20230628T203746Z
UID:event_request-475991-liberty53@intand.com
END:VEVENT
END:VCALENDAR
