BEGIN:VCALENDAR
VERSION:2.0
PRODID:-//Intand Corporation//Tandem//EN
METHOD:PUBLISH
BEGIN:VEVENT
DTSTAMP:20260424T033056Z
DTSTART;VALUE=DATE:20231003
DTEND;VALUE=DATE:20231004
TRANSP:TRANSPARENT
PRIORITY:0
SUMMARY:LHS-W Tennis Team Districts
LOCATION:TBD-Districts
DESCRIPTION:Setup: TBD\nBreakdown: TBD\n\nDepart: TBD\nReturn: TBD\n\nGrou
 ps:\nLHS Girls Tennis Varsity\n\nSchools:\nLiberty High School\nTBD-Distri
 cts\n\nLocation:\nTBD-Districts\n\n
URL;VALUE=URI:http://liberty53.tandem.co/index.php?type=view&action=event&
 id=475970
CREATED:20230626T203434Z
LAST-MODIFIED:20230626T203457Z
UID:event-475970-liberty53@intand.com
END:VEVENT
END:VCALENDAR
