BEGIN:VCALENDAR
VERSION:2.0
PRODID:-//Intand Corporation//Tandem//EN
METHOD:PUBLISH
BEGIN:VEVENT
DTSTAMP:20260424T061912Z
DTSTART:20230705T230000Z
DTEND:20230706T010000Z
TRANSP:TRANSPARENT
PRIORITY:0
SUMMARY:DMS - Wardawgs Baseball 
LOCATION:DMS Baseball/Softball
DESCRIPTION:Groups:\nWardawgs Baseball (VanDruff)\n\nSchools:\nDiscovery M
 iddle School\n\nLocation:\nDMS Baseball/Softball\n\n
URL;VALUE=URI:http://liberty53.tandem.co/index.php?type=view&action=event&
 id=475956
CREATED:20230626T201840Z
LAST-MODIFIED:20230626T201840Z
UID:event-475956-liberty53@intand.com
END:VEVENT
END:VCALENDAR
