BEGIN:VCALENDAR
VERSION:2.0
PRODID:-//Intand Corporation//Tandem//EN
METHOD:PUBLISH
BEGIN:VEVENT
DTSTAMP:20260424T040812Z
DTSTART;VALUE=DATE:20230920
DTEND;VALUE=DATE:20230921
TRANSP:TRANSPARENT
PRIORITY:0
SUMMARY:LHS-JV W Tennis @ Northtown Trn
LOCATION:Macken Park
DESCRIPTION:Setup: TBD\nBreakdown: TBD\n\nDepart: TBD\nReturn: TBD\n\nGrou
 ps:\nLHS Girls Tennis JV/Varsity\n\nSchools:\nLiberty High School\n\nLocat
 ion:\nMacken Park\n\n
URL;VALUE=URI:http://liberty53.tandem.co/index.php?type=view&action=event&
 id=475951
CREATED:20230626T200633Z
LAST-MODIFIED:20230626T200633Z
UID:event-475951-liberty53@intand.com
END:VEVENT
END:VCALENDAR
