BEGIN:VCALENDAR
VERSION:2.0
PRODID:-//Intand Corporation//Tandem//EN
METHOD:PUBLISH
BEGIN:VEVENT
DTSTAMP:20260424T061908Z
DTSTART:20230914T114500Z
DTEND:20230914T123000Z
TRANSP:TRANSPARENT
PRIORITY:0
SUMMARY:LNHS GG Practice
LOCATION:LNHS Cafeteria (GH HVAC)
DESCRIPTION:Groups:\nLNHS Dance Team\n\nSchools:\nLiberty North High Schoo
 l\n\nLocation:\nLNHS Cafeteria (GH HVAC)\n\n
URL;VALUE=URI:http://liberty53.tandem.co/index.php?type=view&action=event&
 id=475860
CREATED:20230626T185343Z
LAST-MODIFIED:20230626T185343Z
UID:event-475860-liberty53@intand.com
END:VEVENT
END:VCALENDAR
