BEGIN:VCALENDAR
VERSION:2.0
PRODID:-//Intand Corporation//Tandem//EN
METHOD:PUBLISH
BEGIN:VEVENT
DTSTAMP:20260424T041009Z
DTSTART:20230802T130000Z
DTEND:20230802T210000Z
TRANSP:TRANSPARENT
PRIORITY:0
SUMMARY:DAC 4 - 409/410 Special Service All Day PD
LOCATION:DAC 4 - 409\, DAC 4 - 410
DESCRIPTION:Groups:\nSSC Special Services Staff\n\nSchools:\nDistrict Admi
 nistration Center\n\nLocations:\nDAC 4 - 409\nDAC 4 - 410\n\n
URL;VALUE=URI:http://liberty53.tandem.co/index.php?type=view&action=event&
 id=475846
CREATED:20230626T172237Z
LAST-MODIFIED:20230626T200144Z
UID:event_request-475846-liberty53@intand.com
END:VEVENT
END:VCALENDAR
