BEGIN:VCALENDAR
VERSION:2.0
PRODID:-//Intand Corporation//Tandem//EN
METHOD:PUBLISH
BEGIN:VEVENT
DTSTAMP:20260424T040918Z
DTSTART:20230718T150000Z
DTEND:20230718T170000Z
TRANSP:TRANSPARENT
PRIORITY:0
SUMMARY:LHS- Cheer Practice
LOCATION:LHS Cokely Gym
DESCRIPTION:Groups:\nLHS Cheer JV/Varsity\n\nSchools:\nLiberty High School
 \n\nLocation:\nLHS Cokely Gym\n\n
URL;VALUE=URI:http://liberty53.tandem.co/index.php?type=view&action=event&
 id=475834
CREATED:20230626T141132Z
LAST-MODIFIED:20230626T141132Z
UID:event-475834-liberty53@intand.com
END:VEVENT
END:VCALENDAR
