BEGIN:VCALENDAR
VERSION:2.0
PRODID:-//Intand Corporation//Tandem//EN
METHOD:PUBLISH
BEGIN:VEVENT
DTSTAMP:20260424T050134Z
DTSTART:20240124T133000Z
DTEND:20240124T210000Z
TRANSP:TRANSPARENT
PRIORITY:0
SUMMARY:Academic Fair (9th - 11th) - MANDATORY
LOCATION:LHS Cokely Gym
DESCRIPTION:Groups:\nLHS Guidance\n\nSchools:\nLiberty High School\n\nLoca
 tion:\nLHS Cokely Gym\n\n
URL;VALUE=URI:http://liberty53.tandem.co/index.php?type=view&action=event&
 id=475708
CREATED:20230620T160103Z
LAST-MODIFIED:20230620T160305Z
UID:event_request-475708-liberty53@intand.com
END:VEVENT
END:VCALENDAR
