BEGIN:VCALENDAR
VERSION:2.0
PRODID:-//Intand Corporation//Tandem//EN
METHOD:PUBLISH
BEGIN:VEVENT
DTSTAMP:20260424T032955Z
DTSTART:20230803T130000Z
DTEND:20230803T200000Z
TRANSP:TRANSPARENT
PRIORITY:0
SUMMARY:ILC Meeting
LOCATION:LHS View Classroom 27
DESCRIPTION:Groups:\nInstructional Coaches\n\nSchools:\nLiberty High Schoo
 l\nDistrict Administration Center\n\nLocation:\nLHS View Classroom 27\n\n
URL;VALUE=URI:http://liberty53.tandem.co/index.php?type=view&action=event&
 id=475690
CREATED:20230616T192111Z
LAST-MODIFIED:20230620T154652Z
UID:event_request-475690-liberty53@intand.com
END:VEVENT
END:VCALENDAR
