BEGIN:VCALENDAR
VERSION:2.0
PRODID:-//Intand Corporation//Tandem//EN
METHOD:PUBLISH
BEGIN:VEVENT
DTSTAMP:20260424T040640Z
DTSTART:20230929T153000Z
DTEND:20230929T193000Z
TRANSP:TRANSPARENT
PRIORITY:0
SUMMARY:DMS- Color Run
LOCATION:DMS Learnscape\, DMS Bus Parking Lot\, DMS Commons\, DMS Football
  Field\, DMS Baseball/Softball\, DMS Front Staff Lot\, DMS Gym\, DMS Track
 \, DMS Soccer Field\, DMS North Greenspace\, DMS North Staff Lot
DESCRIPTION:Groups:\nDMS PTA\n\nSchools:\nDiscovery Middle School\n\nLocat
 ions:\nDMS Learnscape\nDMS Bus Parking Lot\nDMS Commons\nDMS Football Fiel
 d\nDMS Baseball/Softball\nDMS Front Staff Lot\nDMS Gym\nDMS Track\nDMS Soc
 cer Field\nDMS North Greenspace\nDMS North Staff Lot\n\n
URL;VALUE=URI:http://liberty53.tandem.co/index.php?type=view&action=event&
 id=475678
CREATED:20230616T162301Z
LAST-MODIFIED:20230616T162301Z
UID:event-475678-liberty53@intand.com
END:VEVENT
END:VCALENDAR
