BEGIN:VCALENDAR
VERSION:2.0
PRODID:-//Intand Corporation//Tandem//EN
METHOD:PUBLISH
BEGIN:VEVENT
DTSTAMP:20260424T020235Z
DTSTART:20240118T010000Z
DTEND:20240118T020000Z
TRANSP:TRANSPARENT
PRIORITY:0
SUMMARY:DMS- PTSA Meeting
LOCATION:DMS LMC
DESCRIPTION:Groups:\nDMS PTA\n\nSchools:\nDiscovery Middle School\n\nLocat
 ion:\nDMS LMC\n\n
URL;VALUE=URI:http://liberty53.tandem.co/index.php?type=view&action=event&
 id=475666
CREATED:20230616T161717Z
LAST-MODIFIED:20230616T161717Z
UID:event-475666-liberty53@intand.com
END:VEVENT
END:VCALENDAR
