BEGIN:VCALENDAR
VERSION:2.0
PRODID:-//Intand Corporation//Tandem//EN
METHOD:PUBLISH
BEGIN:VEVENT
DTSTAMP:20260424T050114Z
DTSTART:20240111T000000Z
DTEND:20240111T010000Z
TRANSP:TRANSPARENT
PRIORITY:0
SUMMARY:DAC 4 - 409/410 - Special Service Parent Meeting
LOCATION:DAC 4 - 409\, DAC 4 - 410
DESCRIPTION:Groups:\nSSC Special Services Staff\n\nSchools:\nDistrict Admi
 nistration Center\n\nLocations:\nDAC 4 - 409\nDAC 4 - 410\n\n
URL;VALUE=URI:http://liberty53.tandem.co/index.php?type=view&action=event&
 id=475652
CREATED:20230615T201044Z
LAST-MODIFIED:20230620T175908Z
UID:event_request-475652-liberty53@intand.com
END:VEVENT
END:VCALENDAR
