BEGIN:VCALENDAR
VERSION:2.0
PRODID:-//Intand Corporation//Tandem//EN
METHOD:PUBLISH
BEGIN:VEVENT
DTSTAMP:20260424T073732Z
DTSTART:20240510T220000Z
DTEND:20240511T000000Z
TRANSP:TRANSPARENT
PRIORITY:0
SUMMARY:LHS-Var Baseball @ William Jewell Fields vs Liberty North
LOCATION:William Jewell College
DESCRIPTION:Groups:\nLHS Baseball Varsity\n\nSchools:\nLiberty High School
 \n\nLocation:\nWilliam Jewell College\n\n
URL;VALUE=URI:http://liberty53.tandem.co/index.php?type=view&action=event&
 id=475644
CREATED:20230615T185229Z
LAST-MODIFIED:20230615T185229Z
UID:event-475644-liberty53@intand.com
END:VEVENT
END:VCALENDAR
