BEGIN:VCALENDAR
VERSION:2.0
PRODID:-//Intand Corporation//Tandem//EN
METHOD:PUBLISH
BEGIN:VEVENT
DTSTAMP:20260424T050102Z
DTSTART:20240509T220000Z
DTEND:20240510T000000Z
TRANSP:TRANSPARENT
PRIORITY:0
SUMMARY:LHS-JV Baseball Away vs Liberty North
LOCATION:Liberty North HS
DESCRIPTION:Groups:\nLHS Baseball JV\n\nSchools:\nLiberty High School\n\nL
 ocation:\nLiberty North HS\n\n
URL;VALUE=URI:http://liberty53.tandem.co/index.php?type=view&action=event&
 id=475643
CREATED:20230615T185134Z
LAST-MODIFIED:20230615T185134Z
UID:event-475643-liberty53@intand.com
END:VEVENT
END:VCALENDAR
