BEGIN:VCALENDAR
VERSION:2.0
PRODID:-//Intand Corporation//Tandem//EN
METHOD:PUBLISH
BEGIN:VEVENT
DTSTAMP:20260424T041047Z
DTSTART:20240503T210000Z
DTEND:20240503T230000Z
TRANSP:TRANSPARENT
PRIORITY:0
SUMMARY:LHS- Var Baseball Away @ lee summit North
LOCATION:Lee's Summit North High School
DESCRIPTION:Groups:\nLHS Baseball Varsity\n\nSchools:\nLiberty High School
 \n\nLocation:\nLee's Summit North High School\n\n
URL;VALUE=URI:http://liberty53.tandem.co/index.php?type=view&action=event&
 id=475626
CREATED:20230615T184027Z
LAST-MODIFIED:20230615T184027Z
UID:event-475626-liberty53@intand.com
END:VEVENT
END:VCALENDAR
