BEGIN:VCALENDAR
VERSION:2.0
PRODID:-//Intand Corporation//Tandem//EN
METHOD:PUBLISH
BEGIN:VEVENT
DTSTAMP:20260424T073950Z
DTSTART:20240412T220000Z
DTEND:20240413T000000Z
TRANSP:TRANSPARENT
PRIORITY:0
SUMMARY:LHS-Var Baseball Home vs Park Hill South
LOCATION:LHS Ball Diamond 1
DESCRIPTION:Groups:\nLHS Baseball Varsity\n\nSchools:\nLiberty High School
 \n\nLocation:\nLHS Ball Diamond 1\n\n
URL;VALUE=URI:http://liberty53.tandem.co/index.php?type=view&action=event&
 id=475489
CREATED:20230614T164539Z
LAST-MODIFIED:20230614T164539Z
UID:event-475489-liberty53@intand.com
END:VEVENT
END:VCALENDAR
