BEGIN:VCALENDAR
VERSION:2.0
PRODID:-//Intand Corporation//Tandem//EN
METHOD:PUBLISH
BEGIN:VEVENT
DTSTAMP:20260424T041203Z
DTSTART;VALUE=DATE:20240409
DTEND;VALUE=DATE:20240410
TRANSP:TRANSPARENT
PRIORITY:0
SUMMARY:LHS-JV Baseball Northland Tournament
LOCATION:TBD-Districts
DESCRIPTION:Setup: TBD\nBreakdown: TBD\n\nDepart: TBD\nReturn: TBD\n\nGrou
 ps:\nLHS Baseball JV\n\nSchools:\nLiberty High School\nTBD-Districts\n\nLo
 cation:\nTBD-Districts\n\n
URL;VALUE=URI:http://liberty53.tandem.co/index.php?type=view&action=event&
 id=475479
CREATED:20230614T162144Z
LAST-MODIFIED:20230614T162244Z
UID:event-475479-liberty53@intand.com
END:VEVENT
END:VCALENDAR
